BEGIN:VCALENDAR
VERSION:2.0
PRODID:-//Titusville Historical Society - ECPv6.15.20//NONSGML v1.0//EN
CALSCALE:GREGORIAN
METHOD:PUBLISH
X-WR-CALNAME:Titusville Historical Society
X-ORIGINAL-URL:https://titusvillehistoricalsociety.org
X-WR-CALDESC:Events for Titusville Historical Society
REFRESH-INTERVAL;VALUE=DURATION:PT1H
X-Robots-Tag:noindex
X-PUBLISHED-TTL:PT1H
BEGIN:VTIMEZONE
TZID:America/Halifax
BEGIN:DAYLIGHT
TZOFFSETFROM:-0400
TZOFFSETTO:-0300
TZNAME:ADT
DTSTART:20240310T060000
END:DAYLIGHT
BEGIN:STANDARD
TZOFFSETFROM:-0300
TZOFFSETTO:-0400
TZNAME:AST
DTSTART:20241103T050000
END:STANDARD
BEGIN:DAYLIGHT
TZOFFSETFROM:-0400
TZOFFSETTO:-0300
TZNAME:ADT
DTSTART:20250309T060000
END:DAYLIGHT
BEGIN:STANDARD
TZOFFSETFROM:-0300
TZOFFSETTO:-0400
TZNAME:AST
DTSTART:20251102T050000
END:STANDARD
BEGIN:DAYLIGHT
TZOFFSETFROM:-0400
TZOFFSETTO:-0300
TZNAME:ADT
DTSTART:20260308T060000
END:DAYLIGHT
BEGIN:STANDARD
TZOFFSETFROM:-0300
TZOFFSETTO:-0400
TZNAME:AST
DTSTART:20261101T050000
END:STANDARD
END:VTIMEZONE
BEGIN:VEVENT
DTSTART;TZID=America/Halifax:20250802T110000
DTEND;TZID=America/Halifax:20250802T120000
DTSTAMP:20260423T153555
CREATED:20250711T134730Z
LAST-MODIFIED:20250711T134730Z
UID:1741-1754132400-1754136000@titusvillehistoricalsociety.org
SUMMARY:Reformatting Workshop
DESCRIPTION:Drowning in old Super 8’s? About to be inundated by stacks of home VHS tapes? We’ve got the workshop for you! \nJoin Dr. Rhonda Clark at the first reformatting workshop of the summer\, held at the Historical Society’s Heritage Center. She’ll help you transfer those precious memories to a current format so that they can be enjoyed for years to come. \nThis event is free and open to the public\, however donations to the Society are appreciated.
URL:https://titusvillehistoricalsociety.org/event/reformatting-workshop-2/
LOCATION:Titusville Historical Society\, 201 W. Spring Street\, Titusville\, Pennsylvania\, 16354
CATEGORIES:Classes
ATTACH;FMTTYPE=image/jpeg:https://titusvillehistoricalsociety.org/wp-content/uploads/2024/07/27.Digitizing.Equipment-scaled.jpg
ORGANIZER;CN="Titusville Historical Society":MAILTO:TitusvilleHistoricalSociety@gmail.com
END:VEVENT
END:VCALENDAR