BEGIN:VCALENDAR
VERSION:2.0
PRODID:-//Titusville Historical Society - ECPv6.15.20//NONSGML v1.0//EN
CALSCALE:GREGORIAN
METHOD:PUBLISH
X-WR-CALNAME:Titusville Historical Society
X-ORIGINAL-URL:https://titusvillehistoricalsociety.org
X-WR-CALDESC:Events for Titusville Historical Society
REFRESH-INTERVAL;VALUE=DURATION:PT1H
X-Robots-Tag:noindex
X-PUBLISHED-TTL:PT1H
BEGIN:VTIMEZONE
TZID:America/New_York
BEGIN:DAYLIGHT
TZOFFSETFROM:-0500
TZOFFSETTO:-0400
TZNAME:EDT
DTSTART:20230312T070000
END:DAYLIGHT
BEGIN:STANDARD
TZOFFSETFROM:-0400
TZOFFSETTO:-0500
TZNAME:EST
DTSTART:20231105T060000
END:STANDARD
BEGIN:DAYLIGHT
TZOFFSETFROM:-0500
TZOFFSETTO:-0400
TZNAME:EDT
DTSTART:20240310T070000
END:DAYLIGHT
BEGIN:STANDARD
TZOFFSETFROM:-0400
TZOFFSETTO:-0500
TZNAME:EST
DTSTART:20241103T060000
END:STANDARD
BEGIN:DAYLIGHT
TZOFFSETFROM:-0500
TZOFFSETTO:-0400
TZNAME:EDT
DTSTART:20250309T070000
END:DAYLIGHT
BEGIN:STANDARD
TZOFFSETFROM:-0400
TZOFFSETTO:-0500
TZNAME:EST
DTSTART:20251102T060000
END:STANDARD
END:VTIMEZONE
BEGIN:VEVENT
DTSTART;TZID=America/New_York:20240809T170000
DTEND;TZID=America/New_York:20240809T200000
DTSTAMP:20260423T153309
CREATED:20240803T000439Z
LAST-MODIFIED:20240819T190142Z
UID:870-1723222800-1723233600@titusvillehistoricalsociety.org
SUMMARY:The Art of Martha Herpst Catalog :  Launch
DESCRIPTION:Header 2 Planning a Visit\nCopy Text Informing about the Call to Action \n			\n				View Map
URL:https://titusvillehistoricalsociety.org/event/the-art-of-martha-herpst-catalog/
LOCATION:Titusville Historical Society\, 201 W. Spring Street\, Titusville\, Pennsylvania\, 16354
CATEGORIES:Classes
ATTACH;FMTTYPE=image/png:https://titusvillehistoricalsociety.org/wp-content/uploads/2024/08/MarthaHerpst_Catalog_cover.png
ORGANIZER;CN="Titusville Historical Society":MAILTO:TitusvilleHistoricalSociety@gmail.com
END:VEVENT
END:VCALENDAR