BEGIN:VCALENDAR
VERSION:2.0
PRODID:-//Titusville Historical Society - ECPv6.15.20//NONSGML v1.0//EN
CALSCALE:GREGORIAN
METHOD:PUBLISH
X-WR-CALNAME:Titusville Historical Society
X-ORIGINAL-URL:https://titusvillehistoricalsociety.org
X-WR-CALDESC:Events for Titusville Historical Society
REFRESH-INTERVAL;VALUE=DURATION:PT1H
X-Robots-Tag:noindex
X-PUBLISHED-TTL:PT1H
BEGIN:VTIMEZONE
TZID:America/Halifax
BEGIN:DAYLIGHT
TZOFFSETFROM:-0400
TZOFFSETTO:-0300
TZNAME:ADT
DTSTART:20230312T060000
END:DAYLIGHT
BEGIN:STANDARD
TZOFFSETFROM:-0300
TZOFFSETTO:-0400
TZNAME:AST
DTSTART:20231105T050000
END:STANDARD
BEGIN:DAYLIGHT
TZOFFSETFROM:-0400
TZOFFSETTO:-0300
TZNAME:ADT
DTSTART:20240310T060000
END:DAYLIGHT
BEGIN:STANDARD
TZOFFSETFROM:-0300
TZOFFSETTO:-0400
TZNAME:AST
DTSTART:20241103T050000
END:STANDARD
BEGIN:DAYLIGHT
TZOFFSETFROM:-0400
TZOFFSETTO:-0300
TZNAME:ADT
DTSTART:20250309T060000
END:DAYLIGHT
BEGIN:STANDARD
TZOFFSETFROM:-0300
TZOFFSETTO:-0400
TZNAME:AST
DTSTART:20251102T050000
END:STANDARD
END:VTIMEZONE
BEGIN:VEVENT
DTSTART;TZID=America/Halifax:20241111T190000
DTEND;TZID=America/Halifax:20241111T200000
DTSTAMP:20260423T153428
CREATED:20241027T172648Z
LAST-MODIFIED:20241027T172648Z
UID:1720-1731351600-1731355200@titusvillehistoricalsociety.org
SUMMARY:Titusville's Marine Corps League
DESCRIPTION:The Titusville Historical Society will host a program on the Titusville Marine Corps League on Monday\, November 11\, at 7pm. Join Society President Kelly Anderson Gregg as we explore this local institution. The program will take place at the Society’s Heritage Center\, 201 W. Spring St. (use Washington St. entry ramp). The public is encouraged to share their own memories of the Marine Corps League as well. This program is free and open to the public.
URL:https://titusvillehistoricalsociety.org/event/titusvilles-marine-corps-league/
CATEGORIES:Programs
ORGANIZER;CN="Titusville Historical Society":MAILTO:TitusvilleHistoricalSociety@gmail.com
END:VEVENT
END:VCALENDAR