BEGIN:VCALENDAR
VERSION:2.0
PRODID:-//Titusville Historical Society - ECPv6.15.20//NONSGML v1.0//EN
CALSCALE:GREGORIAN
METHOD:PUBLISH
X-WR-CALNAME:Titusville Historical Society
X-ORIGINAL-URL:https://titusvillehistoricalsociety.org
X-WR-CALDESC:Events for Titusville Historical Society
REFRESH-INTERVAL;VALUE=DURATION:PT1H
X-Robots-Tag:noindex
X-PUBLISHED-TTL:PT1H
BEGIN:VTIMEZONE
TZID:America/Halifax
BEGIN:DAYLIGHT
TZOFFSETFROM:-0400
TZOFFSETTO:-0300
TZNAME:ADT
DTSTART:20230312T060000
END:DAYLIGHT
BEGIN:STANDARD
TZOFFSETFROM:-0300
TZOFFSETTO:-0400
TZNAME:AST
DTSTART:20231105T050000
END:STANDARD
BEGIN:DAYLIGHT
TZOFFSETFROM:-0400
TZOFFSETTO:-0300
TZNAME:ADT
DTSTART:20240310T060000
END:DAYLIGHT
BEGIN:STANDARD
TZOFFSETFROM:-0300
TZOFFSETTO:-0400
TZNAME:AST
DTSTART:20241103T050000
END:STANDARD
BEGIN:DAYLIGHT
TZOFFSETFROM:-0400
TZOFFSETTO:-0300
TZNAME:ADT
DTSTART:20250309T060000
END:DAYLIGHT
BEGIN:STANDARD
TZOFFSETFROM:-0300
TZOFFSETTO:-0400
TZNAME:AST
DTSTART:20251102T050000
END:STANDARD
END:VTIMEZONE
BEGIN:VEVENT
DTSTART;TZID=America/Halifax:20240921T130000
DTEND;TZID=America/Halifax:20240921T160000
DTSTAMP:20260423T134933
CREATED:20240915T235749Z
LAST-MODIFIED:20240915T235749Z
UID:1657-1726923600-1726934400@titusvillehistoricalsociety.org
SUMMARY:Treasures From Your Attic
DESCRIPTION:Back by popular demand! The Historical Society will once again host “Treasures From Your Attic\,” on Saturday\, Sept. 21\, 1-4pm. Bring your beautiful\, strange\, or just plain fun antiques to the Heritage Center\, where a team of experts will evaluate your pieces. Refreshments will be provided.\n\n\n\nRegister here: https://forms.gle/gfrtqBxYruqFfrG3A\n\n\n\nCost:\n$10 for the first piece\n$5 for each additional piece (up to two)\n\n\n\nThe Heritage Center\n201 W. Spring St.\nUse Washington St. entry ramp
URL:https://titusvillehistoricalsociety.org/event/treasures-from-your-attic/
LOCATION:Titusville Historical Society\, 201 W. Spring Street\, Titusville\, Pennsylvania\, 16354
CATEGORIES:Programs
ATTACH;FMTTYPE=image/tiff:https://titusvillehistoricalsociety.org/wp-content/uploads/2024/09/3.-IMG_2968.tif
ORGANIZER;CN="Titusville Historical Society":MAILTO:TitusvilleHistoricalSociety@gmail.com
END:VEVENT
END:VCALENDAR