BEGIN:VCALENDAR
VERSION:2.0
PRODID:-//Titusville Historical Society - ECPv6.15.20//NONSGML v1.0//EN
CALSCALE:GREGORIAN
METHOD:PUBLISH
X-WR-CALNAME:Titusville Historical Society
X-ORIGINAL-URL:https://titusvillehistoricalsociety.org
X-WR-CALDESC:Events for Titusville Historical Society
REFRESH-INTERVAL;VALUE=DURATION:PT1H
X-Robots-Tag:noindex
X-PUBLISHED-TTL:PT1H
BEGIN:VTIMEZONE
TZID:America/Halifax
BEGIN:DAYLIGHT
TZOFFSETFROM:-0400
TZOFFSETTO:-0300
TZNAME:ADT
DTSTART:20230312T060000
END:DAYLIGHT
BEGIN:STANDARD
TZOFFSETFROM:-0300
TZOFFSETTO:-0400
TZNAME:AST
DTSTART:20231105T050000
END:STANDARD
BEGIN:DAYLIGHT
TZOFFSETFROM:-0400
TZOFFSETTO:-0300
TZNAME:ADT
DTSTART:20240310T060000
END:DAYLIGHT
BEGIN:STANDARD
TZOFFSETFROM:-0300
TZOFFSETTO:-0400
TZNAME:AST
DTSTART:20241103T050000
END:STANDARD
BEGIN:DAYLIGHT
TZOFFSETFROM:-0400
TZOFFSETTO:-0300
TZNAME:ADT
DTSTART:20250309T060000
END:DAYLIGHT
BEGIN:STANDARD
TZOFFSETFROM:-0300
TZOFFSETTO:-0400
TZNAME:AST
DTSTART:20251102T050000
END:STANDARD
END:VTIMEZONE
BEGIN:VEVENT
DTSTART;TZID=America/Halifax:20241026T140000
DTEND;TZID=America/Halifax:20241026T190000
DTSTAMP:20260423T135540
CREATED:20240923T234226Z
LAST-MODIFIED:20241007T164758Z
UID:1669-1729951200-1729969200@titusvillehistoricalsociety.org
SUMMARY:Woodlawn Cemetery Tours
DESCRIPTION:The Titusville Historical Society is pleased to partner with our friends at Woodlawn to bring you a very special event this month- tours of our town’s historic cemetery! Join us as we discover the stories throughout this important resting places. The tour will require walking around Woodlawn Cemetery. \nPlease register to reserve your time slot: https://forms.gle/hnF5qHq4XzTLeLm56 \n  \nTitus Chase burial site\, Titusville Historical Society collection.
URL:https://titusvillehistoricalsociety.org/event/woodlawn-cemetery-tours/
LOCATION:Woodlawn Cemetery\, 892 W. Spring St.\, Titusville\, PA\, 16354\, United States
ORGANIZER;CN="Titusville Historical Society":MAILTO:TitusvilleHistoricalSociety@gmail.com
END:VEVENT
END:VCALENDAR